BEGIN:VCALENDAR
VERSION:2.0
PRODID:-//https://malawitravel.org/demo///NONSGML kigkonsult.se iCalcreator 2.10.15//
METHOD:PUBLISH
BEGIN:VEVENT
UID:20260424T174748UTC-0098H62bZn@https://malawitravel.org/demo/
DTSTAMP:20260424T174748Z
DESCRIPTION:Lake of Stars Festival. September (usually) at Lake Malawi in v
 arious locations along the shores.\nOne of Malawi’s most famous festivals\
 , the Lake of Stars is an internationally recognized music and arts festiv
 al that brings together local and international musicians\, artists\, and 
 performers.\nIt takes place on the shores of Lake Malawi\, offering a mix 
 of music genres\, art installations\, and cultural performances\, while ce
 lebrating the country’s rich culture and beautiful landscape.\n  https://m
 alawitravel.org/demo/what-is-happening/events/event/386-lake-of-stars-fest
 ival.html
DTSTART:20251017T070000Z
DTEND:20251019T160000Z
LOCATION:Lake Malawi\, Chintheche\, Nkhata Bay ()
SUMMARY:Lake of Stars Festival
URL:https://malawitravel.org/demo/what-is-happening/events/event/386-lake-o
 f-stars-festival.html
END:VEVENT
END:VCALENDAR
